BEGIN:VCALENDAR
VERSION:2.0
PRODID:icalendar-ruby
CALSCALE:GREGORIAN
METHOD:PUBLISH
BEGIN:VEVENT
DTSTAMP:20260419T150232Z
UID:5-465949@abramcreek.com
DTSTART:20261011T140000Z
DTEND:20261011T150000Z
CLASS:PUBLIC
CREATED:20260419T091555
DESCRIPTION:Sunday Worship
LAST-MODIFIED:20260419T091555
LOCATION:
SUMMARY:Sunday Worship
URL;VALUE=URI:https://www.abramcreek.com/events/sunday-worship/2026-10-11
END:VEVENT
END:VCALENDAR
