BEGIN:VCALENDAR
VERSION:2.0
PRODID:icalendar-ruby
CALSCALE:GREGORIAN
METHOD:PUBLISH
BEGIN:VEVENT
DTSTAMP:20260420T081037Z
UID:6-467768@abramcreek.com
DTSTART:20260927T143000Z
DTEND:20260928T160500Z
CLASS:PUBLIC
CREATED:20260420T033700
DESCRIPTION:Abram Creek YouTube Page
LAST-MODIFIED:20260420T033700
LOCATION:18664 Sheldon Road Brook Park\, OH 44142
SUMMARY:Abram Creek Baptist Church Sunday Morning Service
URL;VALUE=URI:https://www.abramcreek.com/events/abram-creek-baptist-church-
 sunday-morning-service/2026-09-27
ATTACH;FILENAME=acbclogospot.png;FMTTYPE=image/png:https://dq5pwpg1q8ru0.cl
 oudfront.net/2025/03/07/04/25/14/e9f68865-af6c-4bf3-9f74-c3ce52c67e98/acbc
 logospot.png
END:VEVENT
END:VCALENDAR
